<!-- BEGIN:VCALENDAR
VERSION:2.0
PRODID:-//LANKAEVENTS//NONSGML v1.0//EN
CALSCALE:GREGORIAN
BEGIN:VEVENT
DTSTART:20260515T080000
DTEND:20260516T230000
SUMMARY:WNPS Field Trip-Wilpattu
LOCATION:Wilpattu
DESCRIPTION:3 days, 2 nightsFor reservations Nilanjan Vijethilaka 075 802 0800
END:VEVENT
END:VCALENDAR -->
BEGIN:VCALENDAR
VERSION:2.0
PRODID:-//LANKAEVENTS//NONSGML v1.0//EN
CALSCALE:GREGORIAN
BEGIN:VEVENT
DTSTART:20260515T080000
DTEND:20260516T230000
SUMMARY:WNPS Field Trip-Wilpattu
LOCATION:Wilpattu
DESCRIPTION:3 days, 2 nightsFor reservations Nilanjan Vijethilaka 075 802 0800
BEGIN:VALARM
TRIGGER:-PT30M
ACTION:DISPLAY
DESCRIPTION:Reminder: WNPS Field Trip-Wilpattu is starting soon!
END:VALARM
END:VEVENT
END:VCALENDAR